BEGIN:VCALENDAR
VERSION:2.0
CALSCALE:GREGORIAN
METHOD:PUBLISH
PRODID://MESQ//1422345
BEGIN:VEVENT
DTSTAMP:20260420T190546
VTIMEZONE:America/Los_Angeles
DTSTART:20260514T180000Z
DTEND:20260514T200000Z
UID:1422345
SUMMARY:Enhanced Planning - Preserve Family Harmony & Protect Your Legacy
LOCATION:Country Club at Mesquite Vistas, 851 Oasis Blvd, MESQUITE, NV, 89027
DESCRIPTION:Enhanced Planning - Preserve Family Harmony & Protect Your Legacy\n\n05/14/26 11:00 AM PST\n - 05/14/26 01:00 PM PST\Description:\n\n\nDiscover the benefits of enhanced planning.\n\nLearn how enhanced planning may help you:\n \n\n\n	Transfer assets efficiently\n	Reduce taxes\n	Leave a legacy\n	Preserve family harmony\n\n\n\n\n \n\nWills. Trusts. Beneficiaries.\n\nThese aren’t just for the ultra-rich. It’s a common misconception that only the wealthy need to bother with wills and trusts. The truth is, without careful planning, the family you leave behind could face unnecessary difficulties when it comes time for them to divide up your assets.\n\nLeave a Legacy of Family Harmony\n\nIt’s easy to think that your family will figure it out after you’re gone, and that may be true. But clearly communicating your wishes and setting things up to transfer smoothly may go a long way toward keeping harmony in the family.\n\nNo Plan for Your Estate? Uncle Sam Has One.\n\nThe government sets estate tax rates, but careful preparation can help you minimize the impact on your heirs. What’s your vision for your estate? Enhanced planning gives you more control over who gets what and how much – and that includes Uncle Sam.\n\n \n\n\nSEATING IS LIMITED!\n\nDon’t leave your legacy to chance. Register now to learn smart strategies for protecting your assets and reducing taxes.\n\n \n\nCALL 702-346-7025 OR USE THE LINK BELOW TO REGISTER\nhttps://fcrpinsurance.com/enhanced-planning-seminar/\n\n\Details:\nTHURSDAY, MAY 14TH @ 11:00am\n\n851 Oasis Blvd, Mesquite, NV 89027\n\nCountry Club at Mesquite Vistas\n\n*FREE Lunch is included! \n\Location:\nCountry Club at Mesquite Vistas\n851 Oasis Blvd\nMESQUITE, NV 89027
X-ALT-DESC;FMTTYPE=text/html:Enhanced Planning - Preserve Family Harmony & Protect Your Legacy<br /><br />05/14/26 11:00 AM PST - 05/14/26 01:00 PM PST<br />Description:<br /><section data-e-type="section" data-element_type="section" data-id="572ddb9f" data-settings="{&quot;background_background&quot;:&quot;classic&quot;}">
<section data-e-type="section" data-element_type="section" data-id="18ad277">
<p>Discover the benefits of&nbsp;<strong>enhanced planning.</strong></p>

<p>Learn how enhanced planning may help you:</p>
&nbsp;

<ul>
	<li>Transfer assets efficiently</li>
	<li>Reduce taxes</li>
	<li>Leave a legacy</li>
	<li>Preserve family harmony</li>
</ul>
</section>
</section>

<section data-e-type="section" data-element_type="section" data-id="5a890c16" data-settings="{&quot;background_background&quot;:&quot;gradient&quot;}">&nbsp;
<section data-e-type="section" data-element_type="section" data-id="114a4e0">
<p><strong>Wills. Trusts. Beneficiaries.</strong></p>

<p>These aren&rsquo;t just for the ultra-rich. It&rsquo;s a common misconception that only the wealthy need to bother with wills and trusts. The truth is, without careful planning, the family you leave behind could face unnecessary difficulties when it comes time for them to divide up your assets.</p>

<p><strong>Leave a Legacy of Family Harmony</strong></p>

<p>It&rsquo;s easy to think that your family will figure it out after you&rsquo;re gone, and that may be true. But clearly communicating your wishes and setting things up to transfer smoothly may go a long way toward keeping harmony in the family.</p>

<p><strong>No Plan for Your Estate? Uncle Sam Has One.</strong></p>

<p>The government sets estate tax rates, but careful preparation can help you minimize the impact on your heirs. What&rsquo;s your vision for your estate? Enhanced planning gives you more control over who gets what and how much &ndash; and that includes Uncle Sam.</p>

<p>&nbsp;</p>
</section>

<p><strong>SEATING IS LIMITED!</strong></p>

<p><strong>Don&rsquo;t leave your legacy to chance. Register now to learn smart strategies for protecting your assets and reducing taxes.</strong></p>

<p>&nbsp;</p>

<p><strong>CALL 702-346-7025 OR USE THE LINK BELOW TO REGISTER<br />
https://fcrpinsurance.com/enhanced-planning-seminar/</strong></p>
</section>
<br />Details:<br /><p><strong>THURSDAY, MAY 14TH @ 11:00am</strong></p>

<p><strong>851 Oasis Blvd, Mesquite, NV 89027</strong></p>

<p><em>Country Club at Mesquite Vistas</em></p>

<p><em>*FREE Lunch is included!&nbsp;</em></p>
<br />Location:<br />Country Club at Mesquite Vistas<br />851 Oasis Blvd<br />MESQUITE, NV 89027
PRIORITY:3
TRANSP:TRANSPARENT
BEGIN:VALARM
TRIGGER:-PT5M
ACTION:DISPLAY
DESCRIPTION:Reminder
END:VALARM
END:VEVENT
END:VCALENDAR
